

BEGIN:VCALENDAR
VERSION:2.0
PRODID:-//South Pasadena Chamber of Commerce - ECPv6.15.20//NONSGML v1.0//EN
CALSCALE:GREGORIAN
METHOD:PUBLISH
X-ORIGINAL-URL:https://southpasadena.net
X-WR-CALDESC:Events for South Pasadena Chamber of Commerce
REFRESH-INTERVAL;VALUE=DURATION:PT1H
X-Robots-Tag:noindex
X-PUBLISHED-TTL:PT1H
BEGIN:VTIMEZONE
TZID:America/Los_Angeles
BEGIN:DAYLIGHT
TZOFFSETFROM:-0800
TZOFFSETTO:-0700
TZNAME:PDT
DTSTART:20240310T100000
END:DAYLIGHT
BEGIN:STANDARD
TZOFFSETFROM:-0700
TZOFFSETTO:-0800
TZNAME:PST
DTSTART:20241103T090000
END:STANDARD
BEGIN:DAYLIGHT
TZOFFSETFROM:-0800
TZOFFSETTO:-0700
TZNAME:PDT
DTSTART:20250309T100000
END:DAYLIGHT
BEGIN:STANDARD
TZOFFSETFROM:-0700
TZOFFSETTO:-0800
TZNAME:PST
DTSTART:20251102T090000
END:STANDARD
BEGIN:DAYLIGHT
TZOFFSETFROM:-0800
TZOFFSETTO:-0700
TZNAME:PDT
DTSTART:20260308T100000
END:DAYLIGHT
BEGIN:STANDARD
TZOFFSETFROM:-0700
TZOFFSETTO:-0800
TZNAME:PST
DTSTART:20261101T090000
END:STANDARD
END:VTIMEZONE
BEGIN:VEVENT
DTSTART;TZID=America/Los_Angeles:20250622T150000
DTEND;TZID=America/Los_Angeles:20250622T200000
DTSTAMP:20260425T085943
CREATED:20250613T203059Z
LAST-MODIFIED:20250613T203059Z
UID:10003896-1750604400-1750622400@southpasadena.net
SUMMARY:Active Streets - MISSION AT TWILIGHT
DESCRIPTION:Active Streets: Mission at Twilight is on June 22\, 2025!\nSave the date and join us for a magical evening of active fun under the stars as we celebrate the summer solstice on Sunday\, June 22\, 2025 from 3 PM to 8 PM. This 5-mile open streets event\, hosted by SGVCOG and presented by Metro\, will transform the streets of Alhambra\, San Gabriel\, and South Pasadena into a vibrant public playground for walking\, biking\, skating\, and more! \nCome celebrate the longest day of the year with us—bring your friends\, your family\, and your pets\, and let’s enjoy the streets as they’re meant to be: open and full of life!
URL:https://southpasadena.net/event/active-streets-mission-at-twilight/
ATTACH;FMTTYPE=image/png:https://southpasadena.net/staging/wp-content/uploads/mission-active-streets.png
END:VEVENT
END:VCALENDAR