

BEGIN:VCALENDAR
VERSION:2.0
PRODID:-//South Pasadena Chamber of Commerce - ECPv6.15.20//NONSGML v1.0//EN
CALSCALE:GREGORIAN
METHOD:PUBLISH
X-ORIGINAL-URL:https://southpasadena.net
X-WR-CALDESC:Events for South Pasadena Chamber of Commerce
REFRESH-INTERVAL;VALUE=DURATION:PT1H
X-Robots-Tag:noindex
X-PUBLISHED-TTL:PT1H
BEGIN:VTIMEZONE
TZID:America/Los_Angeles
BEGIN:DAYLIGHT
TZOFFSETFROM:-0800
TZOFFSETTO:-0700
TZNAME:PDT
DTSTART:20240310T100000
END:DAYLIGHT
BEGIN:STANDARD
TZOFFSETFROM:-0700
TZOFFSETTO:-0800
TZNAME:PST
DTSTART:20241103T090000
END:STANDARD
BEGIN:DAYLIGHT
TZOFFSETFROM:-0800
TZOFFSETTO:-0700
TZNAME:PDT
DTSTART:20250309T100000
END:DAYLIGHT
BEGIN:STANDARD
TZOFFSETFROM:-0700
TZOFFSETTO:-0800
TZNAME:PST
DTSTART:20251102T090000
END:STANDARD
BEGIN:DAYLIGHT
TZOFFSETFROM:-0800
TZOFFSETTO:-0700
TZNAME:PDT
DTSTART:20260308T100000
END:DAYLIGHT
BEGIN:STANDARD
TZOFFSETFROM:-0700
TZOFFSETTO:-0800
TZNAME:PST
DTSTART:20261101T090000
END:STANDARD
END:VTIMEZONE
BEGIN:VEVENT
DTSTART;TZID=America/Los_Angeles:20250723T170000
DTEND;TZID=America/Los_Angeles:20250723T190000
DTSTAMP:20260419T063537
CREATED:20250626T221542Z
LAST-MODIFIED:20250711T175413Z
UID:10003898-1753290000-1753297200@southpasadena.net
SUMMARY:After Hours Mixer 7/23: Jeweled Universe
DESCRIPTION:Please join us for an After Hours Mixer hosted by Jeweled Universe. \nEnjoy tasty bites\, beverages\, and raffle prizes while you mix and mingle with fellow business owners! \nWednesday – July 23rd\n5:00pm – 7:00pm \n1017 Mission Street\, Unit B\nSouth Pasadena\, CA 91030 \nMembers: $10\nNon-Members $15 \n\nPlease RSVP to 626-441-2339 or info@southpasadena.net
URL:https://southpasadena.net/event/after-hours-mixer-7-23-jeweled-universe/
LOCATION:Jeweled Universe\, 1017 Mission St\, Unit B\, South Pasadena\, CA\, 91030-3152\, United States
CATEGORIES:Mixer
ATTACH;FMTTYPE=image/png:https://southpasadena.net/staging/wp-content/uploads/South-Pas-Chamber-Mixer_Flyer-1.png
END:VEVENT
END:VCALENDAR