

BEGIN:VCALENDAR
VERSION:2.0
PRODID:-//South Pasadena Chamber of Commerce - ECPv6.15.20//NONSGML v1.0//EN
CALSCALE:GREGORIAN
METHOD:PUBLISH
X-WR-CALNAME:South Pasadena Chamber of Commerce
X-ORIGINAL-URL:https://southpasadena.net
X-WR-CALDESC:Events for South Pasadena Chamber of Commerce
REFRESH-INTERVAL;VALUE=DURATION:PT1H
X-Robots-Tag:noindex
X-PUBLISHED-TTL:PT1H
BEGIN:VTIMEZONE
TZID:America/Los_Angeles
BEGIN:DAYLIGHT
TZOFFSETFROM:-0800
TZOFFSETTO:-0700
TZNAME:PDT
DTSTART:20240310T100000
END:DAYLIGHT
BEGIN:STANDARD
TZOFFSETFROM:-0700
TZOFFSETTO:-0800
TZNAME:PST
DTSTART:20241103T090000
END:STANDARD
BEGIN:DAYLIGHT
TZOFFSETFROM:-0800
TZOFFSETTO:-0700
TZNAME:PDT
DTSTART:20250309T100000
END:DAYLIGHT
BEGIN:STANDARD
TZOFFSETFROM:-0700
TZOFFSETTO:-0800
TZNAME:PST
DTSTART:20251102T090000
END:STANDARD
BEGIN:DAYLIGHT
TZOFFSETFROM:-0800
TZOFFSETTO:-0700
TZNAME:PDT
DTSTART:20260308T100000
END:DAYLIGHT
BEGIN:STANDARD
TZOFFSETFROM:-0700
TZOFFSETTO:-0800
TZNAME:PST
DTSTART:20261101T090000
END:STANDARD
END:VTIMEZONE
BEGIN:VEVENT
DTSTART;TZID=America/Los_Angeles:20250617T170000
DTEND;TZID=America/Los_Angeles:20250617T190000
DTSTAMP:20260419T084602
CREATED:20250522T213742Z
LAST-MODIFIED:20250522T213742Z
UID:10003891-1750179600-1750186800@southpasadena.net
SUMMARY:After Hours Mixer 6/17: South Pasadena Kiwanis Club
DESCRIPTION:Please join us for an After Hours Mixer co-hosted by the South Pasadena Kiwanis Club and the South Pasadena Chamber of Commerce (in the courtyard at 625 Fair Oaks Avenue). \nEnjoy tasty bites\, beverages\, and raffle prizes while you mix and mingle with fellow business owners! \nTuesday\, June 17th\n5:00pm – 7:00pm \n625 Fair Oaks Ave \nSouth Pasadena\, CA 91030 \nMembers: $10\nNon-Members $15
URL:https://southpasadena.net/event/after-hours-mixer-6-17-south-pasadena-kiwanis-club/
LOCATION:CA
CATEGORIES:Mixer
ATTACH;FMTTYPE=image/jpeg:https://southpasadena.net/staging/wp-content/uploads/9.jpg
END:VEVENT
END:VCALENDAR