

BEGIN:VCALENDAR
VERSION:2.0
PRODID:-//South Pasadena Chamber of Commerce - ECPv6.15.20//NONSGML v1.0//EN
CALSCALE:GREGORIAN
METHOD:PUBLISH
X-WR-CALNAME:South Pasadena Chamber of Commerce
X-ORIGINAL-URL:https://southpasadena.net
X-WR-CALDESC:Events for South Pasadena Chamber of Commerce
REFRESH-INTERVAL;VALUE=DURATION:PT1H
X-Robots-Tag:noindex
X-PUBLISHED-TTL:PT1H
BEGIN:VTIMEZONE
TZID:America/Los_Angeles
BEGIN:DAYLIGHT
TZOFFSETFROM:-0800
TZOFFSETTO:-0700
TZNAME:PDT
DTSTART:20240310T100000
END:DAYLIGHT
BEGIN:STANDARD
TZOFFSETFROM:-0700
TZOFFSETTO:-0800
TZNAME:PST
DTSTART:20241103T090000
END:STANDARD
BEGIN:DAYLIGHT
TZOFFSETFROM:-0800
TZOFFSETTO:-0700
TZNAME:PDT
DTSTART:20250309T100000
END:DAYLIGHT
BEGIN:STANDARD
TZOFFSETFROM:-0700
TZOFFSETTO:-0800
TZNAME:PST
DTSTART:20251102T090000
END:STANDARD
BEGIN:DAYLIGHT
TZOFFSETFROM:-0800
TZOFFSETTO:-0700
TZNAME:PDT
DTSTART:20260308T100000
END:DAYLIGHT
BEGIN:STANDARD
TZOFFSETFROM:-0700
TZOFFSETTO:-0800
TZNAME:PST
DTSTART:20261101T090000
END:STANDARD
END:VTIMEZONE
BEGIN:VEVENT
DTSTART;TZID=America/Los_Angeles:20250212T170000
DTEND;TZID=America/Los_Angeles:20250212T183000
DTSTAMP:20260419T074549
CREATED:20250203T214427Z
LAST-MODIFIED:20250203T214427Z
UID:10003738-1739379600-1739385000@southpasadena.net
SUMMARY:After Hours Mixer 2/12: The Daily
DESCRIPTION:Please join us for an After Hours Mixer co-hosted by The Daily and the South Pasadena Chamber of Commerce (in the 1100 Fair Oaks Shopping Center). \nEnjoy tasty bites\, beverages\, and raffle prizes while you mix and mingle with fellow business owners! \nWednesday\, February 12th\n5:00pm – 6:30pm \n1119 Fair Oaks Ave \nSouth Pasadena\, CA 91030 \nMembers: $15\nNon-Members $20
URL:https://southpasadena.net/event/after-hours-mixer-2-12-the-daily/
LOCATION:The Daily by HC\, 1119 Fair Oaks\, South Pasadena\, CA\, 91030\, United States
CATEGORIES:Mixer
ATTACH;FMTTYPE=image/jpeg:https://southpasadena.net/staging/wp-content/uploads/The-Daily.jpg
END:VEVENT
END:VCALENDAR