

BEGIN:VCALENDAR
VERSION:2.0
PRODID:-//South Pasadena Chamber of Commerce - ECPv6.15.20//NONSGML v1.0//EN
CALSCALE:GREGORIAN
METHOD:PUBLISH
X-ORIGINAL-URL:https://southpasadena.net
X-WR-CALDESC:Events for South Pasadena Chamber of Commerce
REFRESH-INTERVAL;VALUE=DURATION:PT1H
X-Robots-Tag:noindex
X-PUBLISHED-TTL:PT1H
BEGIN:VTIMEZONE
TZID:America/Los_Angeles
BEGIN:DAYLIGHT
TZOFFSETFROM:-0800
TZOFFSETTO:-0700
TZNAME:PDT
DTSTART:20230312T100000
END:DAYLIGHT
BEGIN:STANDARD
TZOFFSETFROM:-0700
TZOFFSETTO:-0800
TZNAME:PST
DTSTART:20231105T090000
END:STANDARD
BEGIN:DAYLIGHT
TZOFFSETFROM:-0800
TZOFFSETTO:-0700
TZNAME:PDT
DTSTART:20240310T100000
END:DAYLIGHT
BEGIN:STANDARD
TZOFFSETFROM:-0700
TZOFFSETTO:-0800
TZNAME:PST
DTSTART:20241103T090000
END:STANDARD
BEGIN:DAYLIGHT
TZOFFSETFROM:-0800
TZOFFSETTO:-0700
TZNAME:PDT
DTSTART:20250309T100000
END:DAYLIGHT
BEGIN:STANDARD
TZOFFSETFROM:-0700
TZOFFSETTO:-0800
TZNAME:PST
DTSTART:20251102T090000
END:STANDARD
END:VTIMEZONE
BEGIN:VEVENT
DTSTART;TZID=America/Los_Angeles:20241205T160000
DTEND;TZID=America/Los_Angeles:20241205T180000
DTSTAMP:20260425T063933
CREATED:20241112T204327Z
LAST-MODIFIED:20241112T204420Z
UID:10001519-1733414400-1733421600@southpasadena.net
SUMMARY:Annual Holiday Lighting Celebration - December 5
DESCRIPTION:Join us for the annual Holiday Kick-Off at the South Pasadena Farmers’ Market\n \nPerformances by: \nSPHS Marching Band \nYoung Stars Theatre \nMore TBA \n5:30pm: Menorah Lighting & Tree Lighting by the Mayor \nAfter the lighting we encourage you to ‘Stroll the Streets’ of South Pasadena! Check with local businesses – they may have extended shopping hours and specials/activities planned!
URL:https://southpasadena.net/event/annual-holiday-lighting-celebration-2-2/
LOCATION:South Pasadena Farmers’ Market\, 913 Meridian Avenue\, South Pasadena\, CA\, 91030\, United States
CATEGORIES:Holidays 2024
ATTACH;FMTTYPE=image/jpeg:https://southpasadena.net/staging/wp-content/uploads/IMG_0425.jpeg
END:VEVENT
END:VCALENDAR